BEGIN:VCALENDAR
VERSION:2.0
PRODID:-//Izi&#039;s Art - ECPv6.15.20//NONSGML v1.0//EN
CALSCALE:GREGORIAN
METHOD:PUBLISH
X-ORIGINAL-URL:https://izisart.com
X-WR-CALDESC:Events for Izi&#039;s Art
REFRESH-INTERVAL;VALUE=DURATION:PT1H
X-Robots-Tag:noindex
X-PUBLISHED-TTL:PT1H
BEGIN:VTIMEZONE
TZID:America/Los_Angeles
BEGIN:DAYLIGHT
TZOFFSETFROM:-0800
TZOFFSETTO:-0700
TZNAME:PDT
DTSTART:20250309T100000
END:DAYLIGHT
BEGIN:STANDARD
TZOFFSETFROM:-0700
TZOFFSETTO:-0800
TZNAME:PST
DTSTART:20251102T090000
END:STANDARD
BEGIN:DAYLIGHT
TZOFFSETFROM:-0800
TZOFFSETTO:-0700
TZNAME:PDT
DTSTART:20260308T100000
END:DAYLIGHT
BEGIN:STANDARD
TZOFFSETFROM:-0700
TZOFFSETTO:-0800
TZNAME:PST
DTSTART:20261101T090000
END:STANDARD
BEGIN:DAYLIGHT
TZOFFSETFROM:-0800
TZOFFSETTO:-0700
TZNAME:PDT
DTSTART:20270314T100000
END:DAYLIGHT
BEGIN:STANDARD
TZOFFSETFROM:-0700
TZOFFSETTO:-0800
TZNAME:PST
DTSTART:20271107T090000
END:STANDARD
END:VTIMEZONE
BEGIN:VEVENT
DTSTART;TZID=America/Los_Angeles:20260606T100000
DTEND;TZID=America/Los_Angeles:20260606T160000
DTSTAMP:20260424T033209
CREATED:20260219T212058Z
LAST-MODIFIED:20260219T212058Z
UID:10001183-1780740000-1780761600@izisart.com
SUMMARY:San Clemente Village Art Fair
DESCRIPTION:
URL:https://izisart.com/myevent/san-clemente-village-art-fair-29/
LOCATION:242 Avenida Del Mar San Clemente\, CA 92672\, 242 Avenida Del Mar\, San Clemente\, California\, 92672
END:VEVENT
BEGIN:VEVENT
DTSTART;TZID=America/Los_Angeles:20260711T100000
DTEND;TZID=America/Los_Angeles:20260711T160000
DTSTAMP:20260424T033209
CREATED:20260219T212532Z
LAST-MODIFIED:20260219T212532Z
UID:10001184-1783764000-1783785600@izisart.com
SUMMARY:San Clemente Village Art Fair
DESCRIPTION:
URL:https://izisart.com/myevent/san-clemente-village-art-fair-30/
LOCATION:242 Avenida Del Mar San Clemente\, CA 92672\, 242 Avenida Del Mar\, San Clemente\, California\, 92672
END:VEVENT
BEGIN:VEVENT
DTSTART;TZID=America/Los_Angeles:20260801T100000
DTEND;TZID=America/Los_Angeles:20260801T160000
DTSTAMP:20260424T033209
CREATED:20260330T155651Z
LAST-MODIFIED:20260330T155651Z
UID:10001185-1785578400-1785600000@izisart.com
SUMMARY:San Clemente Village Art Fair
DESCRIPTION:
URL:https://izisart.com/myevent/san-clemente-village-art-fair-31/
LOCATION:242 Avenida Del Mar San Clemente\, CA 92672\, 242 Avenida Del Mar\, San Clemente\, California\, 92672
END:VEVENT
BEGIN:VEVENT
DTSTART;TZID=America/Los_Angeles:20260906T100000
DTEND;TZID=America/Los_Angeles:20260906T160000
DTSTAMP:20260424T033209
CREATED:20260330T155826Z
LAST-MODIFIED:20260330T155826Z
UID:10001186-1788688800-1788710400@izisart.com
SUMMARY:San Clemente Village Art Fair
DESCRIPTION:
URL:https://izisart.com/myevent/san-clemente-village-art-fair-32/
LOCATION:242 Avenida Del Mar San Clemente\, CA 92672\, 242 Avenida Del Mar\, San Clemente\, California\, 92672
END:VEVENT
END:VCALENDAR