BEGIN:VCALENDAR
VERSION:2.0
PRODID:-//Izi&#039;s Art - ECPv6.15.20//NONSGML v1.0//EN
CALSCALE:GREGORIAN
METHOD:PUBLISH
X-ORIGINAL-URL:https://izisart.com
X-WR-CALDESC:Events for Izi&#039;s Art
REFRESH-INTERVAL;VALUE=DURATION:PT1H
X-Robots-Tag:noindex
X-PUBLISHED-TTL:PT1H
BEGIN:VTIMEZONE
TZID:America/Los_Angeles
BEGIN:DAYLIGHT
TZOFFSETFROM:-0800
TZOFFSETTO:-0700
TZNAME:PDT
DTSTART:20230312T100000
END:DAYLIGHT
BEGIN:STANDARD
TZOFFSETFROM:-0700
TZOFFSETTO:-0800
TZNAME:PST
DTSTART:20231105T090000
END:STANDARD
BEGIN:DAYLIGHT
TZOFFSETFROM:-0800
TZOFFSETTO:-0700
TZNAME:PDT
DTSTART:20240310T100000
END:DAYLIGHT
BEGIN:STANDARD
TZOFFSETFROM:-0700
TZOFFSETTO:-0800
TZNAME:PST
DTSTART:20241103T090000
END:STANDARD
BEGIN:DAYLIGHT
TZOFFSETFROM:-0800
TZOFFSETTO:-0700
TZNAME:PDT
DTSTART:20250309T100000
END:DAYLIGHT
BEGIN:STANDARD
TZOFFSETFROM:-0700
TZOFFSETTO:-0800
TZNAME:PST
DTSTART:20251102T090000
END:STANDARD
BEGIN:DAYLIGHT
TZOFFSETFROM:-0800
TZOFFSETTO:-0700
TZNAME:PDT
DTSTART:20260308T100000
END:DAYLIGHT
BEGIN:STANDARD
TZOFFSETFROM:-0700
TZOFFSETTO:-0800
TZNAME:PST
DTSTART:20261101T090000
END:STANDARD
END:VTIMEZONE
BEGIN:VTIMEZONE
TZID:Asia/Krasnoyarsk
BEGIN:STANDARD
TZOFFSETFROM:+0700
TZOFFSETTO:+0700
TZNAME:+07
DTSTART:20230101T000000
END:STANDARD
END:VTIMEZONE
BEGIN:VEVENT
DTSTART;TZID=America/Los_Angeles:20250511T100000
DTEND;TZID=America/Los_Angeles:20250511T170000
DTSTAMP:20260424T032948
CREATED:20241230T174031Z
LAST-MODIFIED:20241230T174031Z
UID:10001147-1746957600-1746982800@izisart.com
SUMMARY:Bernardo Winery Art Fair
DESCRIPTION:
URL:https://izisart.com/myevent/bernardo-winery-art-fair-8/
LOCATION:13330 Paseo Del Verano San Diego\, CA\, 13330 Paseo Del Verano\, San Diego\, California
END:VEVENT
BEGIN:VEVENT
DTSTART;TZID=America/Los_Angeles:20250510T100000
DTEND;TZID=America/Los_Angeles:20250510T170000
DTSTAMP:20260424T032948
CREATED:20241230T173922Z
LAST-MODIFIED:20241230T173922Z
UID:10001146-1746871200-1746896400@izisart.com
SUMMARY:Bernardo Winery Art Fair
DESCRIPTION:
URL:https://izisart.com/myevent/bernardo-winery-art-fair-7/
LOCATION:13330 Paseo Del Verano San Diego\, CA\, 13330 Paseo Del Verano\, San Diego\, California
END:VEVENT
BEGIN:VEVENT
DTSTART;TZID=America/Los_Angeles:20250503T100000
DTEND;TZID=America/Los_Angeles:20250503T160000
DTSTAMP:20260424T032948
CREATED:20241230T173649Z
LAST-MODIFIED:20241230T173649Z
UID:10001145-1746266400-1746288000@izisart.com
SUMMARY:San Clemente Village Art Fair
DESCRIPTION:
URL:https://izisart.com/myevent/san-clemente-village-art-fair-18/
LOCATION:242 Avenida Del Mar San Clemente\, CA 92672\, 242 Avenida Del Mar\, San Clemente\, California\, 92672
END:VEVENT
BEGIN:VEVENT
DTSTART;TZID=Asia/Krasnoyarsk:20250427T090000
DTEND;TZID=Asia/Krasnoyarsk:20250427T150000
DTSTAMP:20260424T032948
CREATED:20250423T153610Z
LAST-MODIFIED:20250425T194706Z
UID:10001156-1745744400-1745766000@izisart.com
SUMMARY:Art on the Green
DESCRIPTION:
URL:https://izisart.com/myevent/art-on-the-green-tentative-date-only-38/
LOCATION:3075 Carlsbad Blvd. Carlsbad\, CA\, 3075 Carlsbad Blvd\, Carlsbad\, CA
END:VEVENT
BEGIN:VEVENT
DTSTART;TZID=America/Los_Angeles:20250413T090000
DTEND;TZID=America/Los_Angeles:20250413T150000
DTSTAMP:20260424T032948
CREATED:20250407T180028Z
LAST-MODIFIED:20250410T170909Z
UID:10001155-1744534800-1744556400@izisart.com
SUMMARY:Art on the Green
DESCRIPTION:
URL:https://izisart.com/myevent/art-on-the-green-4/
LOCATION:3075 Carlsbad Blvd. Carlsbad\, CA\, 3075 Carlsbad Blvd\, Carlsbad\, CA
END:VEVENT
BEGIN:VEVENT
DTSTART;TZID=America/Los_Angeles:20250405T100000
DTEND;TZID=America/Los_Angeles:20250405T160000
DTSTAMP:20260424T032948
CREATED:20241230T173504Z
LAST-MODIFIED:20241230T173504Z
UID:10001144-1743847200-1743868800@izisart.com
SUMMARY:San Clemente Village Art Fair
DESCRIPTION:
URL:https://izisart.com/myevent/san-clemente-village-art-fair-17/
LOCATION:242 Avenida Del Mar San Clemente\, CA 92672\, 242 Avenida Del Mar\, San Clemente\, California\, 92672
END:VEVENT
BEGIN:VEVENT
DTSTART;TZID=America/Los_Angeles:20250323T090000
DTEND;TZID=America/Los_Angeles:20250323T150000
DTSTAMP:20260424T032948
CREATED:20250318T155035Z
LAST-MODIFIED:20250322T152152Z
UID:10001154-1742720400-1742742000@izisart.com
SUMMARY:Art on the Green
DESCRIPTION:
URL:https://izisart.com/myevent/art-on-the-green-3/
LOCATION:3075 Carlsbad Blvd. Carlsbad\, CA\, 3075 Carlsbad Blvd\, Carlsbad\, CA
END:VEVENT
BEGIN:VEVENT
DTSTART;TZID=America/Los_Angeles:20250309T090000
DTEND;TZID=America/Los_Angeles:20250309T150000
DTSTAMP:20260424T032948
CREATED:20250117T170325Z
LAST-MODIFIED:20250304T162716Z
UID:10001151-1741510800-1741532400@izisart.com
SUMMARY:Art on the Green
DESCRIPTION:
URL:https://izisart.com/myevent/art-on-the-green-tentative-date-only-35/
LOCATION:3075 Carlsbad Blvd. Carlsbad\, CA\, 3075 Carlsbad Blvd\, Carlsbad\, CA
END:VEVENT
BEGIN:VEVENT
DTSTART;TZID=Asia/Krasnoyarsk:20250301T100000
DTEND;TZID=Asia/Krasnoyarsk:20250301T160000
DTSTAMP:20260424T032948
CREATED:20241230T173312Z
LAST-MODIFIED:20241230T173312Z
UID:10001143-1740823200-1740844800@izisart.com
SUMMARY:San Clemente Village Art Fair
DESCRIPTION:
URL:https://izisart.com/myevent/san-clemente-village-art-fair-16/
LOCATION:242 Avenida Del Mar San Clemente\, CA 92672\, 242 Avenida Del Mar\, San Clemente\, California\, 92672
END:VEVENT
BEGIN:VEVENT
DTSTART;TZID=America/Los_Angeles:20250222T090000
DTEND;TZID=America/Los_Angeles:20250222T150000
DTSTAMP:20260424T032948
CREATED:20250123T165937Z
LAST-MODIFIED:20250218T012153Z
UID:10001153-1740214800-1740236400@izisart.com
SUMMARY:Art on the Green
DESCRIPTION:
URL:https://izisart.com/myevent/art-on-the-green-tentative-date-only-37/
LOCATION:3075 Carlsbad Blvd. Carlsbad\, CA\, 3075 Carlsbad Blvd\, Carlsbad\, CA
END:VEVENT
BEGIN:VEVENT
DTSTART;TZID=America/Los_Angeles:20250215T090000
DTEND;TZID=America/Los_Angeles:20250215T150000
DTSTAMP:20260424T032948
CREATED:20250123T165736Z
LAST-MODIFIED:20250210T172344Z
UID:10001152-1739610000-1739631600@izisart.com
SUMMARY:Art on the Green
DESCRIPTION:
URL:https://izisart.com/myevent/art-on-the-green-tentative-date-only-36/
LOCATION:3075 Carlsbad Blvd. Carlsbad\, CA\, 3075 Carlsbad Blvd\, Carlsbad\, CA
END:VEVENT
BEGIN:VEVENT
DTSTART;TZID=America/Los_Angeles:20250201T100000
DTEND;TZID=America/Los_Angeles:20250201T160000
DTSTAMP:20260424T032948
CREATED:20241230T173201Z
LAST-MODIFIED:20241230T173201Z
UID:10001142-1738404000-1738425600@izisart.com
SUMMARY:San Clemente Village Art Fair
DESCRIPTION:
URL:https://izisart.com/myevent/san-clemente-village-art-fair-15/
LOCATION:242 Avenida Del Mar San Clemente\, CA 92672\, 242 Avenida Del Mar\, San Clemente\, California\, 92672
END:VEVENT
BEGIN:VEVENT
DTSTART;TZID=America/Los_Angeles:20250118T090000
DTEND;TZID=America/Los_Angeles:20250118T150000
DTSTAMP:20260424T032948
CREATED:20250106T173045Z
LAST-MODIFIED:20250117T170124Z
UID:10001150-1737190800-1737212400@izisart.com
SUMMARY:Art on the Green
DESCRIPTION:
URL:https://izisart.com/myevent/art-on-the-green-tentative-date-only-34/
LOCATION:3075 Carlsbad Blvd. Carlsbad\, CA\, 3075 Carlsbad Blvd\, Carlsbad\, CA
END:VEVENT
BEGIN:VEVENT
DTSTART;TZID=America/Los_Angeles:20250112T090000
DTEND;TZID=America/Los_Angeles:20250112T150000
DTSTAMP:20260424T032948
CREATED:20250106T172902Z
LAST-MODIFIED:20250108T011058Z
UID:10001149-1736672400-1736694000@izisart.com
SUMMARY:Art on the Green
DESCRIPTION:
URL:https://izisart.com/myevent/art-on-the-green-tentative-date-only-33/
LOCATION:3075 Carlsbad Blvd. Carlsbad\, CA\, 3075 Carlsbad Blvd\, Carlsbad\, CA
END:VEVENT
BEGIN:VEVENT
DTSTART;TZID=America/Los_Angeles:20250104T100000
DTEND;TZID=America/Los_Angeles:20250104T160000
DTSTAMP:20260424T032948
CREATED:20241230T173006Z
LAST-MODIFIED:20241230T173006Z
UID:10001141-1735984800-1736006400@izisart.com
SUMMARY:San Clemente Village Art Fair
DESCRIPTION:
URL:https://izisart.com/myevent/san-clemente-village-art-fair-14/
LOCATION:242 Avenida Del Mar San Clemente\, CA 92672\, 242 Avenida Del Mar\, San Clemente\, California\, 92672
END:VEVENT
BEGIN:VEVENT
DTSTART;TZID=America/Los_Angeles:20241228T090000
DTEND;TZID=America/Los_Angeles:20241228T150000
DTSTAMP:20260424T032948
CREATED:20241119T025028Z
LAST-MODIFIED:20241224T161427Z
UID:10001139-1735376400-1735398000@izisart.com
SUMMARY:Art on the Green
DESCRIPTION:
URL:https://izisart.com/myevent/art-on-the-green-tentative-date-only-31/
LOCATION:3075 Carlsbad Blvd. Carlsbad\, CA\, 3075 Carlsbad Blvd\, Carlsbad\, CA
END:VEVENT
BEGIN:VEVENT
DTSTART;TZID=America/Los_Angeles:20241222T090000
DTEND;TZID=America/Los_Angeles:20241222T150000
DTSTAMP:20260424T032948
CREATED:20241119T024807Z
LAST-MODIFIED:20241218T160423Z
UID:10001138-1734858000-1734879600@izisart.com
SUMMARY:Art on the Green
DESCRIPTION:
URL:https://izisart.com/myevent/art-on-the-green-tentative-date-only-30/
LOCATION:3075 Carlsbad Blvd. Carlsbad\, CA\, 3075 Carlsbad Blvd\, Carlsbad\, CA
END:VEVENT
BEGIN:VEVENT
DTSTART;TZID=America/Los_Angeles:20241221T090000
DTEND;TZID=America/Los_Angeles:20241221T150000
DTSTAMP:20260424T032948
CREATED:20241119T024520Z
LAST-MODIFIED:20241218T160342Z
UID:10001137-1734771600-1734793200@izisart.com
SUMMARY:Art on the Green
DESCRIPTION:
URL:https://izisart.com/myevent/art-on-the-green-tentative-date-only-29/
LOCATION:3075 Carlsbad Blvd. Carlsbad\, CA\, 3075 Carlsbad Blvd\, Carlsbad\, CA
END:VEVENT
BEGIN:VEVENT
DTSTART;TZID=America/Los_Angeles:20241214T100000
DTEND;TZID=America/Los_Angeles:20241214T160000
DTSTAMP:20260424T032948
CREATED:20240102T175724Z
LAST-MODIFIED:20240315T231451Z
UID:10001115-1734170400-1734192000@izisart.com
SUMMARY:San Clemente Village Art Fair
DESCRIPTION:
URL:https://izisart.com/myevent/san-clemente-village-art-fair-13/
LOCATION:242 Avenida Del Mar San Clemente\, CA 92672\, 242 Avenida Del Mar\, San Clemente\, California\, 92672
END:VEVENT
BEGIN:VEVENT
DTSTART;TZID=Asia/Krasnoyarsk:20241207T090000
DTEND;TZID=Asia/Krasnoyarsk:20241207T150000
DTSTAMP:20260424T032948
CREATED:20241119T024334Z
LAST-MODIFIED:20241206T175204Z
UID:10001136-1733562000-1733583600@izisart.com
SUMMARY:Art on the Green
DESCRIPTION:
URL:https://izisart.com/myevent/art-on-the-green-tentative-date-only-28/
LOCATION:3075 Carlsbad Blvd. Carlsbad\, CA\, 3075 Carlsbad Blvd\, Carlsbad\, CA
END:VEVENT
BEGIN:VEVENT
DTSTART;TZID=America/Los_Angeles:20241130T090000
DTEND;TZID=America/Los_Angeles:20241130T150000
DTSTAMP:20260424T032948
CREATED:20241126T155344Z
LAST-MODIFIED:20241129T193954Z
UID:10001140-1732957200-1732978800@izisart.com
SUMMARY:Art on the Green
DESCRIPTION:
URL:https://izisart.com/myevent/art-on-the-green-tentative-date-only-32/
LOCATION:3075 Carlsbad Blvd. Carlsbad\, CA\, 3075 Carlsbad Blvd\, Carlsbad\, CA
END:VEVENT
BEGIN:VEVENT
DTSTART;TZID=America/Los_Angeles:20241124T090000
DTEND;TZID=America/Los_Angeles:20241124T150000
DTSTAMP:20260424T032948
CREATED:20241119T024114Z
LAST-MODIFIED:20241123T000826Z
UID:10001135-1732438800-1732460400@izisart.com
SUMMARY:Art on the Green
DESCRIPTION:
URL:https://izisart.com/myevent/art-on-the-green-2/
LOCATION:3075 Carlsbad Blvd. Carlsbad\, CA\, 3075 Carlsbad Blvd\, Carlsbad\, CA
END:VEVENT
BEGIN:VEVENT
DTSTART;TZID=America/Los_Angeles:20241109T090000
DTEND;TZID=America/Los_Angeles:20241109T150000
DTSTAMP:20260424T032948
CREATED:20240806T184557Z
LAST-MODIFIED:20240806T184557Z
UID:10001133-1731142800-1731164400@izisart.com
SUMMARY:Olivenhain Art Fair
DESCRIPTION:
URL:https://izisart.com/myevent/olivenhain-art-fair-2/
LOCATION:Rancho Santa Fe and 7th Streets\, Rancho Santa Fe and 7th Streets\, Encinitas\, California
END:VEVENT
BEGIN:VEVENT
DTSTART;TZID=America/Los_Angeles:20241102T100000
DTEND;TZID=America/Los_Angeles:20241102T160000
DTSTAMP:20260424T032948
CREATED:20240102T175614Z
LAST-MODIFIED:20240315T231828Z
UID:10001114-1730541600-1730563200@izisart.com
SUMMARY:San Clemente Village Art Fair
DESCRIPTION:
URL:https://izisart.com/myevent/san-clemente-village-art-fair-12/
LOCATION:242 Avenida Del Mar San Clemente\, CA 92672\, 242 Avenida Del Mar\, San Clemente\, California\, 92672
END:VEVENT
BEGIN:VEVENT
DTSTART;TZID=America/Los_Angeles:20241020T100000
DTEND;TZID=America/Los_Angeles:20241020T170000
DTSTAMP:20260424T032948
CREATED:20240114T214459Z
LAST-MODIFIED:20240315T231930Z
UID:10001118-1729418400-1729443600@izisart.com
SUMMARY:Bernardo Winery Art Fair
DESCRIPTION:
URL:https://izisart.com/myevent/bernardo-winery-art-fair-6/
LOCATION:13330 Paseo Del Verano San Diego\, CA\, 13330 Paseo Del Verano\, San Diego\, California
END:VEVENT
BEGIN:VEVENT
DTSTART;TZID=America/Los_Angeles:20241019T100000
DTEND;TZID=America/Los_Angeles:20241019T170000
DTSTAMP:20260424T032948
CREATED:20240114T214357Z
LAST-MODIFIED:20240315T232028Z
UID:10001117-1729332000-1729357200@izisart.com
SUMMARY:Bernardo Winery Art Fair
DESCRIPTION:
URL:https://izisart.com/myevent/bernardo-winery-art-fair-5/
LOCATION:13330 Paseo Del Verano San Diego\, CA\, 13330 Paseo Del Verano\, San Diego\, California
END:VEVENT
BEGIN:VEVENT
DTSTART;TZID=America/Los_Angeles:20241013T100000
DTEND;TZID=America/Los_Angeles:20241013T160000
DTSTAMP:20260424T032948
CREATED:20240811T161338Z
LAST-MODIFIED:20240902T160129Z
UID:10001134-1728813600-1728835200@izisart.com
SUMMARY:Dana Point ArtFest
DESCRIPTION:
URL:https://izisart.com/myevent/dana-point-artfest-tentative-only/
LOCATION:Del Prado Ave Dana Point CA\, Del Prado Ave\, Dana Point\, California
END:VEVENT
BEGIN:VEVENT
DTSTART;TZID=America/Los_Angeles:20241005T100000
DTEND;TZID=America/Los_Angeles:20241005T160000
DTSTAMP:20260424T032948
CREATED:20240102T175503Z
LAST-MODIFIED:20240315T232131Z
UID:10001113-1728122400-1728144000@izisart.com
SUMMARY:San Clemente Village Art Fair
DESCRIPTION:
URL:https://izisart.com/myevent/san-clemente-village-art-fair-11/
LOCATION:242 Avenida Del Mar San Clemente\, CA 92672\, 242 Avenida Del Mar\, San Clemente\, California\, 92672
END:VEVENT
BEGIN:VEVENT
DTSTART;TZID=America/Los_Angeles:20240914T090000
DTEND;TZID=America/Los_Angeles:20240914T150000
DTSTAMP:20260424T032948
CREATED:20240722T161046Z
LAST-MODIFIED:20240909T180713Z
UID:10001131-1726304400-1726326000@izisart.com
SUMMARY:Art on the Green
DESCRIPTION:
URL:https://izisart.com/myevent/art-on-the-green-tentative-date-only-27/
LOCATION:3075 Carlsbad Blvd. Carlsbad\, CA\, 3075 Carlsbad Blvd\, Carlsbad\, CA
END:VEVENT
BEGIN:VEVENT
DTSTART;TZID=America/Los_Angeles:20240907T100000
DTEND;TZID=America/Los_Angeles:20240907T160000
DTSTAMP:20260424T032948
CREATED:20240102T175350Z
LAST-MODIFIED:20240315T232243Z
UID:10001112-1725703200-1725724800@izisart.com
SUMMARY:San Clemente Village Art Fair
DESCRIPTION:
URL:https://izisart.com/myevent/san-clemente-village-art-fair-10/
LOCATION:242 Avenida Del Mar San Clemente\, CA 92672\, 242 Avenida Del Mar\, San Clemente\, California\, 92672
END:VEVENT
END:VCALENDAR