BEGIN:VCALENDAR
VERSION:2.0
PRODID:-//Izi&#039;s Art - ECPv6.15.20//NONSGML v1.0//EN
CALSCALE:GREGORIAN
METHOD:PUBLISH
X-ORIGINAL-URL:https://izisart.com
X-WR-CALDESC:Events for Izi&#039;s Art
REFRESH-INTERVAL;VALUE=DURATION:PT1H
X-Robots-Tag:noindex
X-PUBLISHED-TTL:PT1H
BEGIN:VTIMEZONE
TZID:America/Los_Angeles
BEGIN:DAYLIGHT
TZOFFSETFROM:-0800
TZOFFSETTO:-0700
TZNAME:PDT
DTSTART:20240310T100000
END:DAYLIGHT
BEGIN:STANDARD
TZOFFSETFROM:-0700
TZOFFSETTO:-0800
TZNAME:PST
DTSTART:20241103T090000
END:STANDARD
BEGIN:DAYLIGHT
TZOFFSETFROM:-0800
TZOFFSETTO:-0700
TZNAME:PDT
DTSTART:20250309T100000
END:DAYLIGHT
BEGIN:STANDARD
TZOFFSETFROM:-0700
TZOFFSETTO:-0800
TZNAME:PST
DTSTART:20251102T090000
END:STANDARD
BEGIN:DAYLIGHT
TZOFFSETFROM:-0800
TZOFFSETTO:-0700
TZNAME:PDT
DTSTART:20260308T100000
END:DAYLIGHT
BEGIN:STANDARD
TZOFFSETFROM:-0700
TZOFFSETTO:-0800
TZNAME:PST
DTSTART:20261101T090000
END:STANDARD
END:VTIMEZONE
BEGIN:VEVENT
DTSTART;TZID=America/Los_Angeles:20251206T090000
DTEND;TZID=America/Los_Angeles:20251206T150000
DTSTAMP:20260424T032918
CREATED:20251115T191919Z
LAST-MODIFIED:20251202T170015Z
UID:10001174-1765011600-1765033200@izisart.com
SUMMARY:Art on the Green
DESCRIPTION:
URL:https://izisart.com/myevent/art-on-the-green-tentative-date-only-41/
LOCATION:3075 Carlsbad Blvd. Carlsbad\, CA\, 3075 Carlsbad Blvd\, Carlsbad\, CA
END:VEVENT
BEGIN:VEVENT
DTSTART;TZID=America/Los_Angeles:20251207T100000
DTEND;TZID=America/Los_Angeles:20251207T160000
DTSTAMP:20260424T032918
CREATED:20251115T192102Z
LAST-MODIFIED:20251202T170111Z
UID:10001175-1765101600-1765123200@izisart.com
SUMMARY:Art on the Green
DESCRIPTION:
URL:https://izisart.com/myevent/art-on-the-green-tentative-date-only-42/
LOCATION:3075 Carlsbad Blvd. Carlsbad\, CA\, 3075 Carlsbad Blvd\, Carlsbad\, CA
END:VEVENT
BEGIN:VEVENT
DTSTART;TZID=America/Los_Angeles:20251213T100000
DTEND;TZID=America/Los_Angeles:20251213T160000
DTSTAMP:20260424T032918
CREATED:20250718T153151Z
LAST-MODIFIED:20250718T153151Z
UID:10001168-1765620000-1765641600@izisart.com
SUMMARY:San Clemente Village Arts Fair
DESCRIPTION:
URL:https://izisart.com/myevent/san-clemente-village-arts-fair-2/
LOCATION:242 Avenida Del Mar San Clemente\, CA 92672\, 242 Avenida Del Mar\, San Clemente\, California\, 92672
END:VEVENT
END:VCALENDAR