BEGIN:VCALENDAR
VERSION:2.0
PRODID:-//Izi&#039;s Art - ECPv6.15.20//NONSGML v1.0//EN
CALSCALE:GREGORIAN
METHOD:PUBLISH
X-WR-CALNAME:Izi&#039;s Art
X-ORIGINAL-URL:https://izisart.com
X-WR-CALDESC:Events for Izi&#039;s Art
REFRESH-INTERVAL;VALUE=DURATION:PT1H
X-Robots-Tag:noindex
X-PUBLISHED-TTL:PT1H
BEGIN:VTIMEZONE
TZID:America/Los_Angeles
BEGIN:DAYLIGHT
TZOFFSETFROM:-0800
TZOFFSETTO:-0700
TZNAME:PDT
DTSTART:20230312T100000
END:DAYLIGHT
BEGIN:STANDARD
TZOFFSETFROM:-0700
TZOFFSETTO:-0800
TZNAME:PST
DTSTART:20231105T090000
END:STANDARD
BEGIN:DAYLIGHT
TZOFFSETFROM:-0800
TZOFFSETTO:-0700
TZNAME:PDT
DTSTART:20240310T100000
END:DAYLIGHT
BEGIN:STANDARD
TZOFFSETFROM:-0700
TZOFFSETTO:-0800
TZNAME:PST
DTSTART:20241103T090000
END:STANDARD
BEGIN:DAYLIGHT
TZOFFSETFROM:-0800
TZOFFSETTO:-0700
TZNAME:PDT
DTSTART:20250309T100000
END:DAYLIGHT
BEGIN:STANDARD
TZOFFSETFROM:-0700
TZOFFSETTO:-0800
TZNAME:PST
DTSTART:20251102T090000
END:STANDARD
BEGIN:DAYLIGHT
TZOFFSETFROM:-0800
TZOFFSETTO:-0700
TZNAME:PDT
DTSTART:20260308T100000
END:DAYLIGHT
BEGIN:STANDARD
TZOFFSETFROM:-0700
TZOFFSETTO:-0800
TZNAME:PST
DTSTART:20261101T090000
END:STANDARD
END:VTIMEZONE
BEGIN:VTIMEZONE
TZID:Asia/Krasnoyarsk
BEGIN:STANDARD
TZOFFSETFROM:+0700
TZOFFSETTO:+0700
TZNAME:+07
DTSTART:20220101T000000
END:STANDARD
END:VTIMEZONE
BEGIN:VEVENT
DTSTART;TZID=America/Los_Angeles:20251019T100000
DTEND;TZID=America/Los_Angeles:20251019T170000
DTSTAMP:20260424T033208
CREATED:20250718T152653Z
LAST-MODIFIED:20250718T152653Z
UID:10001166-1760868000-1760893200@izisart.com
SUMMARY:Bernardo Winery Fall Arts & Crafts Fair
DESCRIPTION:
URL:https://izisart.com/myevent/bernardo-winery-fall-arts-crafts-fair-2/
LOCATION:13330 Paseo Del Verano San Diego\, CA\, 13330 Paseo Del Verano\, San Diego\, California
END:VEVENT
BEGIN:VEVENT
DTSTART;TZID=America/Los_Angeles:20251018T100000
DTEND;TZID=America/Los_Angeles:20251018T170000
DTSTAMP:20260424T033208
CREATED:20250718T152459Z
LAST-MODIFIED:20250718T152459Z
UID:10001165-1760781600-1760806800@izisart.com
SUMMARY:Bernardo Winery Fall Arts & Crafts Fair
DESCRIPTION:
URL:https://izisart.com/myevent/bernardo-winery-fall-arts-crafts-fair/
LOCATION:13330 Paseo Del Verano San Diego\, CA\, 13330 Paseo Del Verano\, San Diego\, California
END:VEVENT
BEGIN:VEVENT
DTSTART;TZID=America/Los_Angeles:20250511T100000
DTEND;TZID=America/Los_Angeles:20250511T170000
DTSTAMP:20260424T033208
CREATED:20241230T174031Z
LAST-MODIFIED:20241230T174031Z
UID:10001147-1746957600-1746982800@izisart.com
SUMMARY:Bernardo Winery Art Fair
DESCRIPTION:
URL:https://izisart.com/myevent/bernardo-winery-art-fair-8/
LOCATION:13330 Paseo Del Verano San Diego\, CA\, 13330 Paseo Del Verano\, San Diego\, California
END:VEVENT
BEGIN:VEVENT
DTSTART;TZID=America/Los_Angeles:20250510T100000
DTEND;TZID=America/Los_Angeles:20250510T170000
DTSTAMP:20260424T033208
CREATED:20241230T173922Z
LAST-MODIFIED:20241230T173922Z
UID:10001146-1746871200-1746896400@izisart.com
SUMMARY:Bernardo Winery Art Fair
DESCRIPTION:
URL:https://izisart.com/myevent/bernardo-winery-art-fair-7/
LOCATION:13330 Paseo Del Verano San Diego\, CA\, 13330 Paseo Del Verano\, San Diego\, California
END:VEVENT
BEGIN:VEVENT
DTSTART;TZID=America/Los_Angeles:20241020T100000
DTEND;TZID=America/Los_Angeles:20241020T170000
DTSTAMP:20260424T033208
CREATED:20240114T214459Z
LAST-MODIFIED:20240315T231930Z
UID:10001118-1729418400-1729443600@izisart.com
SUMMARY:Bernardo Winery Art Fair
DESCRIPTION:
URL:https://izisart.com/myevent/bernardo-winery-art-fair-6/
LOCATION:13330 Paseo Del Verano San Diego\, CA\, 13330 Paseo Del Verano\, San Diego\, California
END:VEVENT
BEGIN:VEVENT
DTSTART;TZID=America/Los_Angeles:20241019T100000
DTEND;TZID=America/Los_Angeles:20241019T170000
DTSTAMP:20260424T033208
CREATED:20240114T214357Z
LAST-MODIFIED:20240315T232028Z
UID:10001117-1729332000-1729357200@izisart.com
SUMMARY:Bernardo Winery Art Fair
DESCRIPTION:
URL:https://izisart.com/myevent/bernardo-winery-art-fair-5/
LOCATION:13330 Paseo Del Verano San Diego\, CA\, 13330 Paseo Del Verano\, San Diego\, California
END:VEVENT
BEGIN:VEVENT
DTSTART;TZID=America/Los_Angeles:20240512T100000
DTEND;TZID=America/Los_Angeles:20240512T170000
DTSTAMP:20260424T033208
CREATED:20240102T174732Z
LAST-MODIFIED:20240315T232810Z
UID:10001109-1715508000-1715533200@izisart.com
SUMMARY:Bernardo Winery Art Fair
DESCRIPTION:
URL:https://izisart.com/myevent/bernardo-winery-art-fair-4/
LOCATION:13330 Paseo Del Verano San Diego\, CA\, 13330 Paseo Del Verano\, San Diego\, California
END:VEVENT
BEGIN:VEVENT
DTSTART;TZID=America/Los_Angeles:20240511T100000
DTEND;TZID=America/Los_Angeles:20240511T170000
DTSTAMP:20260424T033208
CREATED:20240102T174456Z
LAST-MODIFIED:20240315T232923Z
UID:10001108-1715421600-1715446800@izisart.com
SUMMARY:Bernardo Winery Art Fair
DESCRIPTION:
URL:https://izisart.com/myevent/bernardo-winery-art-fair-3/
LOCATION:13330 Paseo Del Verano San Diego\, CA\, 13330 Paseo Del Verano\, San Diego\, California
END:VEVENT
BEGIN:VEVENT
DTSTART;TZID=Asia/Krasnoyarsk:20231022T100000
DTEND;TZID=Asia/Krasnoyarsk:20231022T170000
DTSTAMP:20260424T033208
CREATED:20230718T162653Z
LAST-MODIFIED:20230718T162817Z
UID:10001091-1697968800-1697994000@izisart.com
SUMMARY:Bernardo Winery Art Fair
DESCRIPTION:
URL:https://izisart.com/myevent/bernardo-winery-art-fair-2/
LOCATION:13330 Paseo Del Verano San Diego\, CA\, 13330 Paseo Del Verano\, San Diego\, California
END:VEVENT
BEGIN:VEVENT
DTSTART;TZID=Asia/Krasnoyarsk:20231021T100000
DTEND;TZID=Asia/Krasnoyarsk:20231021T170000
DTSTAMP:20260424T033208
CREATED:20230718T162500Z
LAST-MODIFIED:20230718T162518Z
UID:10001090-1697882400-1697907600@izisart.com
SUMMARY:Bernardo Winery Art Fair
DESCRIPTION:
URL:https://izisart.com/myevent/bernardo-winery-art-fair/
LOCATION:13330 Paseo Del Verano San Diego\, CA\, 13330 Paseo Del Verano\, San Diego\, California
END:VEVENT
BEGIN:VEVENT
DTSTART;TZID=Asia/Krasnoyarsk:20230514T100000
DTEND;TZID=Asia/Krasnoyarsk:20230514T170000
DTSTAMP:20260424T033208
CREATED:20230423T053655Z
LAST-MODIFIED:20230423T054000Z
UID:10000513-1684058400-1684083600@izisart.com
SUMMARY:Bernardo Winery Art Fair
DESCRIPTION:
URL:https://izisart.com/myevent/san-clemente-village-art-fair-2-2-2/2023-05-14/
LOCATION:13330 Paseo Del Verano San Diego\, CA\, 13330 Paseo Del Verano\, San Diego\, California
END:VEVENT
BEGIN:VEVENT
DTSTART;TZID=Asia/Krasnoyarsk:20230513T100000
DTEND;TZID=Asia/Krasnoyarsk:20230513T170000
DTSTAMP:20260424T033208
CREATED:20230423T053655Z
LAST-MODIFIED:20230423T054000Z
UID:10000337-1683972000-1683997200@izisart.com
SUMMARY:Bernardo Winery Art Fair
DESCRIPTION:
URL:https://izisart.com/myevent/san-clemente-village-art-fair-2-2-2/2023-05-13/
LOCATION:13330 Paseo Del Verano San Diego\, CA\, 13330 Paseo Del Verano\, San Diego\, California
END:VEVENT
END:VCALENDAR