BEGIN:VCALENDAR
VERSION:2.0
PRODID:-//Izi&#039;s Art - ECPv6.15.20//NONSGML v1.0//EN
CALSCALE:GREGORIAN
METHOD:PUBLISH
X-ORIGINAL-URL:https://izisart.com
X-WR-CALDESC:Events for Izi&#039;s Art
REFRESH-INTERVAL;VALUE=DURATION:PT1H
X-Robots-Tag:noindex
X-PUBLISHED-TTL:PT1H
BEGIN:VTIMEZONE
TZID:America/Los_Angeles
BEGIN:DAYLIGHT
TZOFFSETFROM:-0800
TZOFFSETTO:-0700
TZNAME:PDT
DTSTART:20230312T100000
END:DAYLIGHT
BEGIN:STANDARD
TZOFFSETFROM:-0700
TZOFFSETTO:-0800
TZNAME:PST
DTSTART:20231105T090000
END:STANDARD
BEGIN:DAYLIGHT
TZOFFSETFROM:-0800
TZOFFSETTO:-0700
TZNAME:PDT
DTSTART:20240310T100000
END:DAYLIGHT
BEGIN:STANDARD
TZOFFSETFROM:-0700
TZOFFSETTO:-0800
TZNAME:PST
DTSTART:20241103T090000
END:STANDARD
BEGIN:DAYLIGHT
TZOFFSETFROM:-0800
TZOFFSETTO:-0700
TZNAME:PDT
DTSTART:20250309T100000
END:DAYLIGHT
BEGIN:STANDARD
TZOFFSETFROM:-0700
TZOFFSETTO:-0800
TZNAME:PST
DTSTART:20251102T090000
END:STANDARD
BEGIN:DAYLIGHT
TZOFFSETFROM:-0800
TZOFFSETTO:-0700
TZNAME:PDT
DTSTART:20260308T100000
END:DAYLIGHT
BEGIN:STANDARD
TZOFFSETFROM:-0700
TZOFFSETTO:-0800
TZNAME:PST
DTSTART:20261101T090000
END:STANDARD
BEGIN:DAYLIGHT
TZOFFSETFROM:-0800
TZOFFSETTO:-0700
TZNAME:PDT
DTSTART:20270314T100000
END:DAYLIGHT
BEGIN:STANDARD
TZOFFSETFROM:-0700
TZOFFSETTO:-0800
TZNAME:PST
DTSTART:20271107T090000
END:STANDARD
END:VTIMEZONE
BEGIN:VTIMEZONE
TZID:Asia/Krasnoyarsk
BEGIN:STANDARD
TZOFFSETFROM:+0700
TZOFFSETTO:+0700
TZNAME:+07
DTSTART:20220101T000000
END:STANDARD
END:VTIMEZONE
BEGIN:VEVENT
DTSTART;TZID=America/Los_Angeles:20260404T100000
DTEND;TZID=America/Los_Angeles:20260404T160000
DTSTAMP:20260424T014610
CREATED:20260122T160823Z
LAST-MODIFIED:20260122T160823Z
UID:10001179-1775296800-1775318400@izisart.com
SUMMARY:San Clemente Village Art Fair
DESCRIPTION:
URL:https://izisart.com/myevent/san-clemente-village-art-fair-27/
LOCATION:242 Avenida Del Mar San Clemente\, CA 92672\, 242 Avenida Del Mar\, San Clemente\, California\, 92672
END:VEVENT
BEGIN:VEVENT
DTSTART;TZID=America/Los_Angeles:20260307T100000
DTEND;TZID=America/Los_Angeles:20260307T160000
DTSTAMP:20260424T014610
CREATED:20251230T180247Z
LAST-MODIFIED:20251230T180247Z
UID:10001178-1772877600-1772899200@izisart.com
SUMMARY:San Clemente Village Art Fair
DESCRIPTION:
URL:https://izisart.com/myevent/san-clemente-village-art-fair-26/
LOCATION:242 Avenida Del Mar San Clemente\, CA 92672\, 242 Avenida Del Mar\, San Clemente\, California\, 92672
END:VEVENT
BEGIN:VEVENT
DTSTART;TZID=America/Los_Angeles:20260207T100000
DTEND;TZID=America/Los_Angeles:20260207T160000
DTSTAMP:20260424T014610
CREATED:20251230T180047Z
LAST-MODIFIED:20251230T180047Z
UID:10001177-1770458400-1770480000@izisart.com
SUMMARY:San Clemente Village Art Fair
DESCRIPTION:
URL:https://izisart.com/myevent/san-clemente-village-art-fair-25/
LOCATION:242 Avenida Del Mar San Clemente\, CA 92672\, 242 Avenida Del Mar\, San Clemente\, California\, 92672
END:VEVENT
BEGIN:VEVENT
DTSTART;TZID=America/Los_Angeles:20260103T100000
DTEND;TZID=America/Los_Angeles:20260103T160000
DTSTAMP:20260424T014610
CREATED:20251202T170422Z
LAST-MODIFIED:20251230T175744Z
UID:10001176-1767434400-1767456000@izisart.com
SUMMARY:San Clemente Village Art Fair - Rain :(
DESCRIPTION:
URL:https://izisart.com/myevent/san-clemente-village-art-fair-24/
LOCATION:242 Avenida Del Mar San Clemente\, CA 92672\, 242 Avenida Del Mar\, San Clemente\, California\, 92672
END:VEVENT
BEGIN:VEVENT
DTSTART;TZID=America/Los_Angeles:20251213T100000
DTEND;TZID=America/Los_Angeles:20251213T160000
DTSTAMP:20260424T014610
CREATED:20250718T153151Z
LAST-MODIFIED:20250718T153151Z
UID:10001168-1765620000-1765641600@izisart.com
SUMMARY:San Clemente Village Arts Fair
DESCRIPTION:
URL:https://izisart.com/myevent/san-clemente-village-arts-fair-2/
LOCATION:242 Avenida Del Mar San Clemente\, CA 92672\, 242 Avenida Del Mar\, San Clemente\, California\, 92672
END:VEVENT
BEGIN:VEVENT
DTSTART;TZID=America/Los_Angeles:20251101T100000
DTEND;TZID=America/Los_Angeles:20251101T160000
DTSTAMP:20260424T014610
CREATED:20250718T152947Z
LAST-MODIFIED:20250718T152947Z
UID:10001167-1761991200-1762012800@izisart.com
SUMMARY:San Clemente Village Arts Fair
DESCRIPTION:
URL:https://izisart.com/myevent/san-clemente-village-arts-fair/
LOCATION:242 Avenida Del Mar San Clemente\, CA 92672\, 242 Avenida Del Mar\, San Clemente\, California\, 92672
END:VEVENT
BEGIN:VEVENT
DTSTART;TZID=America/Los_Angeles:20251004T100000
DTEND;TZID=America/Los_Angeles:20251004T160000
DTSTAMP:20260424T014610
CREATED:20250602T164244Z
LAST-MODIFIED:20250602T164244Z
UID:10001162-1759572000-1759593600@izisart.com
SUMMARY:San Clemente Village Art Fair
DESCRIPTION:
URL:https://izisart.com/myevent/san-clemente-village-art-fair-23/
LOCATION:242 Avenida Del Mar San Clemente\, CA 92672\, 242 Avenida Del Mar\, San Clemente\, California\, 92672
END:VEVENT
BEGIN:VEVENT
DTSTART;TZID=America/Los_Angeles:20250906T100000
DTEND;TZID=America/Los_Angeles:20250906T160000
DTSTAMP:20260424T014610
CREATED:20250519T164913Z
LAST-MODIFIED:20250519T164913Z
UID:10001160-1757152800-1757174400@izisart.com
SUMMARY:San Clemente Village Art Fair
DESCRIPTION:
URL:https://izisart.com/myevent/san-clemente-village-art-fair-22/
LOCATION:242 Avenida Del Mar San Clemente\, CA 92672\, 242 Avenida Del Mar\, San Clemente\, California\, 92672
END:VEVENT
BEGIN:VEVENT
DTSTART;TZID=America/Los_Angeles:20250802T100000
DTEND;TZID=America/Los_Angeles:20250802T160000
DTSTAMP:20260424T014610
CREATED:20250519T164621Z
LAST-MODIFIED:20250519T164621Z
UID:10001159-1754128800-1754150400@izisart.com
SUMMARY:San Clemente Village Art Fair
DESCRIPTION:
URL:https://izisart.com/myevent/san-clemente-village-art-fair-21/
LOCATION:242 Avenida Del Mar San Clemente\, CA 92672\, 242 Avenida Del Mar\, San Clemente\, California\, 92672
END:VEVENT
BEGIN:VEVENT
DTSTART;TZID=America/Los_Angeles:20250705T100000
DTEND;TZID=America/Los_Angeles:20250705T160000
DTSTAMP:20260424T014610
CREATED:20250519T164326Z
LAST-MODIFIED:20250519T164411Z
UID:10001158-1751709600-1751731200@izisart.com
SUMMARY:San Clemente Village Art Fair
DESCRIPTION:
URL:https://izisart.com/myevent/san-clemente-village-art-fair-20/
LOCATION:242 Avenida Del Mar San Clemente\, CA 92672\, 242 Avenida Del Mar\, San Clemente\, California\, 92672
END:VEVENT
BEGIN:VEVENT
DTSTART;TZID=America/Los_Angeles:20250607T100000
DTEND;TZID=America/Los_Angeles:20250607T160000
DTSTAMP:20260424T014610
CREATED:20241230T174159Z
LAST-MODIFIED:20241230T174159Z
UID:10001148-1749290400-1749312000@izisart.com
SUMMARY:San Clemente Village Art Fair
DESCRIPTION:
URL:https://izisart.com/myevent/san-clemente-village-art-fair-19/
LOCATION:242 Avenida Del Mar San Clemente\, CA 92672\, 242 Avenida Del Mar\, San Clemente\, California\, 92672
END:VEVENT
BEGIN:VEVENT
DTSTART;TZID=America/Los_Angeles:20250503T100000
DTEND;TZID=America/Los_Angeles:20250503T160000
DTSTAMP:20260424T014610
CREATED:20241230T173649Z
LAST-MODIFIED:20241230T173649Z
UID:10001145-1746266400-1746288000@izisart.com
SUMMARY:San Clemente Village Art Fair
DESCRIPTION:
URL:https://izisart.com/myevent/san-clemente-village-art-fair-18/
LOCATION:242 Avenida Del Mar San Clemente\, CA 92672\, 242 Avenida Del Mar\, San Clemente\, California\, 92672
END:VEVENT
BEGIN:VEVENT
DTSTART;TZID=America/Los_Angeles:20250405T100000
DTEND;TZID=America/Los_Angeles:20250405T160000
DTSTAMP:20260424T014610
CREATED:20241230T173504Z
LAST-MODIFIED:20241230T173504Z
UID:10001144-1743847200-1743868800@izisart.com
SUMMARY:San Clemente Village Art Fair
DESCRIPTION:
URL:https://izisart.com/myevent/san-clemente-village-art-fair-17/
LOCATION:242 Avenida Del Mar San Clemente\, CA 92672\, 242 Avenida Del Mar\, San Clemente\, California\, 92672
END:VEVENT
BEGIN:VEVENT
DTSTART;TZID=Asia/Krasnoyarsk:20250301T100000
DTEND;TZID=Asia/Krasnoyarsk:20250301T160000
DTSTAMP:20260424T014610
CREATED:20241230T173312Z
LAST-MODIFIED:20241230T173312Z
UID:10001143-1740823200-1740844800@izisart.com
SUMMARY:San Clemente Village Art Fair
DESCRIPTION:
URL:https://izisart.com/myevent/san-clemente-village-art-fair-16/
LOCATION:242 Avenida Del Mar San Clemente\, CA 92672\, 242 Avenida Del Mar\, San Clemente\, California\, 92672
END:VEVENT
BEGIN:VEVENT
DTSTART;TZID=America/Los_Angeles:20250201T100000
DTEND;TZID=America/Los_Angeles:20250201T160000
DTSTAMP:20260424T014610
CREATED:20241230T173201Z
LAST-MODIFIED:20241230T173201Z
UID:10001142-1738404000-1738425600@izisart.com
SUMMARY:San Clemente Village Art Fair
DESCRIPTION:
URL:https://izisart.com/myevent/san-clemente-village-art-fair-15/
LOCATION:242 Avenida Del Mar San Clemente\, CA 92672\, 242 Avenida Del Mar\, San Clemente\, California\, 92672
END:VEVENT
BEGIN:VEVENT
DTSTART;TZID=America/Los_Angeles:20250104T100000
DTEND;TZID=America/Los_Angeles:20250104T160000
DTSTAMP:20260424T014610
CREATED:20241230T173006Z
LAST-MODIFIED:20241230T173006Z
UID:10001141-1735984800-1736006400@izisart.com
SUMMARY:San Clemente Village Art Fair
DESCRIPTION:
URL:https://izisart.com/myevent/san-clemente-village-art-fair-14/
LOCATION:242 Avenida Del Mar San Clemente\, CA 92672\, 242 Avenida Del Mar\, San Clemente\, California\, 92672
END:VEVENT
BEGIN:VEVENT
DTSTART;TZID=America/Los_Angeles:20241214T100000
DTEND;TZID=America/Los_Angeles:20241214T160000
DTSTAMP:20260424T014610
CREATED:20240102T175724Z
LAST-MODIFIED:20240315T231451Z
UID:10001115-1734170400-1734192000@izisart.com
SUMMARY:San Clemente Village Art Fair
DESCRIPTION:
URL:https://izisart.com/myevent/san-clemente-village-art-fair-13/
LOCATION:242 Avenida Del Mar San Clemente\, CA 92672\, 242 Avenida Del Mar\, San Clemente\, California\, 92672
END:VEVENT
BEGIN:VEVENT
DTSTART;TZID=America/Los_Angeles:20241102T100000
DTEND;TZID=America/Los_Angeles:20241102T160000
DTSTAMP:20260424T014610
CREATED:20240102T175614Z
LAST-MODIFIED:20240315T231828Z
UID:10001114-1730541600-1730563200@izisart.com
SUMMARY:San Clemente Village Art Fair
DESCRIPTION:
URL:https://izisart.com/myevent/san-clemente-village-art-fair-12/
LOCATION:242 Avenida Del Mar San Clemente\, CA 92672\, 242 Avenida Del Mar\, San Clemente\, California\, 92672
END:VEVENT
BEGIN:VEVENT
DTSTART;TZID=America/Los_Angeles:20241005T100000
DTEND;TZID=America/Los_Angeles:20241005T160000
DTSTAMP:20260424T014610
CREATED:20240102T175503Z
LAST-MODIFIED:20240315T232131Z
UID:10001113-1728122400-1728144000@izisart.com
SUMMARY:San Clemente Village Art Fair
DESCRIPTION:
URL:https://izisart.com/myevent/san-clemente-village-art-fair-11/
LOCATION:242 Avenida Del Mar San Clemente\, CA 92672\, 242 Avenida Del Mar\, San Clemente\, California\, 92672
END:VEVENT
BEGIN:VEVENT
DTSTART;TZID=America/Los_Angeles:20240907T100000
DTEND;TZID=America/Los_Angeles:20240907T160000
DTSTAMP:20260424T014610
CREATED:20240102T175350Z
LAST-MODIFIED:20240315T232243Z
UID:10001112-1725703200-1725724800@izisart.com
SUMMARY:San Clemente Village Art Fair
DESCRIPTION:
URL:https://izisart.com/myevent/san-clemente-village-art-fair-10/
LOCATION:242 Avenida Del Mar San Clemente\, CA 92672\, 242 Avenida Del Mar\, San Clemente\, California\, 92672
END:VEVENT
BEGIN:VEVENT
DTSTART;TZID=America/Los_Angeles:20240803T100000
DTEND;TZID=America/Los_Angeles:20240803T160000
DTSTAMP:20260424T014610
CREATED:20240102T175241Z
LAST-MODIFIED:20240315T232355Z
UID:10001111-1722679200-1722700800@izisart.com
SUMMARY:San Clemente Village Art Fair
DESCRIPTION:
URL:https://izisart.com/myevent/san-clemente-village-art-fair-9/
LOCATION:242 Avenida Del Mar San Clemente\, CA 92672\, 242 Avenida Del Mar\, San Clemente\, California\, 92672
END:VEVENT
BEGIN:VEVENT
DTSTART;TZID=America/Los_Angeles:20240706T100000
DTEND;TZID=America/Los_Angeles:20240706T160000
DTSTAMP:20260424T014610
CREATED:20240102T175120Z
LAST-MODIFIED:20240315T232457Z
UID:10001110-1720260000-1720281600@izisart.com
SUMMARY:San Clemente Village Art Fair
DESCRIPTION:
URL:https://izisart.com/myevent/san-clemente-village-art-fair-8/
LOCATION:242 Avenida Del Mar San Clemente\, CA 92672\, 242 Avenida Del Mar\, San Clemente\, California\, 92672
END:VEVENT
BEGIN:VEVENT
DTSTART;TZID=America/Los_Angeles:20240601T100000
DTEND;TZID=America/Los_Angeles:20240601T160000
DTSTAMP:20260424T014610
CREATED:20240102T173710Z
LAST-MODIFIED:20240315T232708Z
UID:10001106-1717236000-1717257600@izisart.com
SUMMARY:San Clemente Village Art Fair
DESCRIPTION:
URL:https://izisart.com/myevent/san-clemente-village-art-fair-6/
LOCATION:242 Avenida Del Mar San Clemente\, CA 92672\, 242 Avenida Del Mar\, San Clemente\, California\, 92672
END:VEVENT
BEGIN:VEVENT
DTSTART;TZID=America/Los_Angeles:20240504T100000
DTEND;TZID=America/Los_Angeles:20240504T160000
DTSTAMP:20260424T014610
CREATED:20240102T174236Z
LAST-MODIFIED:20240315T233017Z
UID:10001107-1714816800-1714838400@izisart.com
SUMMARY:San Clemente Village Art Fair
DESCRIPTION:
URL:https://izisart.com/myevent/san-clemente-village-art-fair-7/
LOCATION:242 Avenida Del Mar San Clemente\, CA 92672\, 242 Avenida Del Mar\, San Clemente\, California\, 92672
END:VEVENT
BEGIN:VEVENT
DTSTART;TZID=America/Los_Angeles:20240406T100000
DTEND;TZID=America/Los_Angeles:20240406T160000
DTSTAMP:20260424T014610
CREATED:20240102T170147Z
LAST-MODIFIED:20240315T233353Z
UID:10001105-1712397600-1712419200@izisart.com
SUMMARY:San Clemente Village Art Fair
DESCRIPTION:
URL:https://izisart.com/myevent/san-clemente-village-art-fair-5/
LOCATION:242 Avenida Del Mar San Clemente\, CA 92672\, 242 Avenida Del Mar\, San Clemente\, California\, 92672
END:VEVENT
BEGIN:VEVENT
DTSTART;TZID=Asia/Krasnoyarsk:20240203T100000
DTEND;TZID=Asia/Krasnoyarsk:20240203T160000
DTSTAMP:20260424T014610
CREATED:20240102T165945Z
LAST-MODIFIED:20240102T165945Z
UID:10001104-1706954400-1706976000@izisart.com
SUMMARY:San Clemente Village Art Fair
DESCRIPTION:
URL:https://izisart.com/myevent/san-clemente-village-art-fair-4/
LOCATION:242 Avenida Del Mar San Clemente\, CA 92672\, 242 Avenida Del Mar\, San Clemente\, California\, 92672
END:VEVENT
BEGIN:VEVENT
DTSTART;TZID=Asia/Krasnoyarsk:20240106T100000
DTEND;TZID=Asia/Krasnoyarsk:20240106T160000
DTSTAMP:20260424T014610
CREATED:20231219T020628Z
LAST-MODIFIED:20231219T020628Z
UID:10001103-1704535200-1704556800@izisart.com
SUMMARY:San Clemente Village Art Fair
DESCRIPTION:
URL:https://izisart.com/myevent/san-clemente-village-art-fair-3/
LOCATION:242 Avenida Del Mar San Clemente\, CA 92672\, 242 Avenida Del Mar\, San Clemente\, California\, 92672
END:VEVENT
BEGIN:VEVENT
DTSTART;TZID=Asia/Krasnoyarsk:20231209T090000
DTEND;TZID=Asia/Krasnoyarsk:20231209T150000
DTSTAMP:20260424T014610
CREATED:20230423T065420Z
LAST-MODIFIED:20230423T065420Z
UID:10001082-1702112400-1702134000@izisart.com
SUMMARY:San Clemente Village Art Fair
DESCRIPTION:
URL:https://izisart.com/myevent/san-clemente-village-art-fair-2/
LOCATION:242 Avenida Del Mar San Clemente\, CA 92672\, 242 Avenida Del Mar\, San Clemente\, California\, 92672
END:VEVENT
BEGIN:VEVENT
DTSTART;TZID=Asia/Krasnoyarsk:20231104T100000
DTEND;TZID=Asia/Krasnoyarsk:20231104T160000
DTSTAMP:20260424T014610
CREATED:20230423T045957Z
LAST-MODIFIED:20230423T052758Z
UID:10000512-1699092000-1699113600@izisart.com
SUMMARY:San Clemente Village Art Fair
DESCRIPTION:
URL:https://izisart.com/myevent/san-clemente-village-art-fair/2023-11-04/
LOCATION:242 Avenida Del Mar San Clemente\, CA 92672\, 242 Avenida Del Mar\, San Clemente\, California\, 92672
END:VEVENT
BEGIN:VEVENT
DTSTART;TZID=Asia/Krasnoyarsk:20231007T100000
DTEND;TZID=Asia/Krasnoyarsk:20231007T160000
DTSTAMP:20260424T014610
CREATED:20230423T045957Z
LAST-MODIFIED:20230423T052758Z
UID:10000511-1696672800-1696694400@izisart.com
SUMMARY:San Clemente Village Art Fair
DESCRIPTION:
URL:https://izisart.com/myevent/san-clemente-village-art-fair/2023-10-07/
LOCATION:242 Avenida Del Mar San Clemente\, CA 92672\, 242 Avenida Del Mar\, San Clemente\, California\, 92672
END:VEVENT
END:VCALENDAR